BEGIN:VCALENDAR
VERSION:2.0
PRODID:-//Afghan Association Paiwand - ECPv6.15.20//NONSGML v1.0//EN
CALSCALE:GREGORIAN
METHOD:PUBLISH
X-ORIGINAL-URL:https://paiwand.com
X-WR-CALDESC:Events for Afghan Association Paiwand
REFRESH-INTERVAL;VALUE=DURATION:PT1H
X-Robots-Tag:noindex
X-PUBLISHED-TTL:PT1H
BEGIN:VTIMEZONE
TZID:Europe/London
BEGIN:DAYLIGHT
TZOFFSETFROM:+0000
TZOFFSETTO:+0100
TZNAME:BST
DTSTART:20240331T010000
END:DAYLIGHT
BEGIN:STANDARD
TZOFFSETFROM:+0100
TZOFFSETTO:+0000
TZNAME:GMT
DTSTART:20241027T010000
END:STANDARD
BEGIN:DAYLIGHT
TZOFFSETFROM:+0000
TZOFFSETTO:+0100
TZNAME:BST
DTSTART:20250330T010000
END:DAYLIGHT
BEGIN:STANDARD
TZOFFSETFROM:+0100
TZOFFSETTO:+0000
TZNAME:GMT
DTSTART:20251026T010000
END:STANDARD
BEGIN:DAYLIGHT
TZOFFSETFROM:+0000
TZOFFSETTO:+0100
TZNAME:BST
DTSTART:20260329T010000
END:DAYLIGHT
BEGIN:STANDARD
TZOFFSETFROM:+0100
TZOFFSETTO:+0000
TZNAME:GMT
DTSTART:20261025T010000
END:STANDARD
END:VTIMEZONE
BEGIN:VEVENT
DTSTART;TZID=Europe/London:20251129T160000
DTEND;TZID=Europe/London:20251129T230000
DTSTAMP:20260420T112139
CREATED:20251115T021854Z
LAST-MODIFIED:20251115T133926Z
UID:10089-1764432000-1764457200@paiwand.com
SUMMARY:Paiwand Celebration 2025
DESCRIPTION:https://paiwand.com/wp-content/uploads/2025/11/event-video.mp4\n  \nReflecting On impact\, Celebrating Resilience.\nThe Paiwand Annual General Meeting & celebration 2025 brings together changemakers and community leaders to honour the strength and progress of Afghan and refugee communities-celebrating Paiwand’s impact in housing\, immigration and mental health\, and the movement of empowerment that continues to grow.
URL:https://paiwand.com/event/paiwand-celebration-2025/
LOCATION:Dolci Lounge\, 1 Whymark Avenue\, London\, N22 6BX\, United Kingdom
END:VEVENT
END:VCALENDAR